BEGIN:VCALENDAR
VERSION:2.0
PRODID:-//GUMMI METALL TECHNIK (M) SDN. BHD. - ECPv5.16.4//NONSGML v1.0//EN
CALSCALE:GREGORIAN
METHOD:PUBLISH
X-WR-CALNAME:GUMMI METALL TECHNIK (M) SDN. BHD.
X-ORIGINAL-URL:https://cn.gmt.com.my
X-WR-CALDESC:Events for GUMMI METALL TECHNIK (M) SDN. BHD.
BEGIN:VTIMEZONE
TZID:Asia/Kuala_Lumpur
BEGIN:STANDARD
TZOFFSETFROM:+0800
TZOFFSETTO:+0800
TZNAME:+08
DTSTART:20190101T000000
END:STANDARD
END:VTIMEZONE
BEGIN:VEVENT
DTSTART;VALUE=DATE:20190530
DTEND;VALUE=DATE:20190601
DTSTAMP:20260420T194925
CREATED:20190422T080757Z
LAST-MODIFIED:20190422T081149Z
UID:5993-1559174400-1559347199@cn.gmt.com.my
SUMMARY:Asean Rail Infrastructure & Expansion 2019
DESCRIPTION:Asean Rail Infrastructure & Expansion 2019 \n30TH -31STMay \, 2019 \nHanoi Vietnam
URL:https://cn.gmt.com.my/event/asean-rail-infrastructure-expansion-2019/
LOCATION:Hanoi Vietnam\, Hanoi\, Viet Nam
CATEGORIES:GMT
END:VEVENT
END:VCALENDAR