BEGIN:VCALENDAR
VERSION:2.0
PRODID:-//GUMMI METALL TECHNIK (M) SDN. BHD. - ECPv5.16.4//NONSGML v1.0//EN
CALSCALE:GREGORIAN
METHOD:PUBLISH
X-WR-CALNAME:GUMMI METALL TECHNIK (M) SDN. BHD.
X-ORIGINAL-URL:https://cn.gmt.com.my
X-WR-CALDESC:Events for GUMMI METALL TECHNIK (M) SDN. BHD.
BEGIN:VTIMEZONE
TZID:Asia/Kuala_Lumpur
BEGIN:STANDARD
TZOFFSETFROM:+0800
TZOFFSETTO:+0800
TZNAME:+08
DTSTART:20190101T000000
END:STANDARD
END:VTIMEZONE
BEGIN:VEVENT
DTSTART;VALUE=DATE:20190702
DTEND;VALUE=DATE:20190706
DTSTAMP:20260420T194428
CREATED:20190422T081722Z
LAST-MODIFIED:20190422T081722Z
UID:6008-1562025600-1562371199@cn.gmt.com.my
SUMMARY:MTA Vietnam
DESCRIPTION:MTA Vietnam \n2nd -5th July\, 2019 \nSaigon Exhibition & Convention Centre \nHo Chi Minh City \,Vietnam
URL:https://cn.gmt.com.my/event/mta-vietnam/
LOCATION:Saigon Exhibition & Convention Centre\, Ho Chi Minh\, Viet Nam
CATEGORIES:GMT
END:VEVENT
END:VCALENDAR