BEGIN:VCALENDAR
VERSION:2.0
PRODID:-//GUMMI METALL TECHNIK (M) SDN. BHD. - ECPv5.16.4//NONSGML v1.0//EN
CALSCALE:GREGORIAN
METHOD:PUBLISH
X-WR-CALNAME:GUMMI METALL TECHNIK (M) SDN. BHD.
X-ORIGINAL-URL:https://cn.gmt.com.my
X-WR-CALDESC:Events for GUMMI METALL TECHNIK (M) SDN. BHD.
BEGIN:VTIMEZONE
TZID:Asia/Kuala_Lumpur
BEGIN:STANDARD
TZOFFSETFROM:+0800
TZOFFSETTO:+0800
TZNAME:+08
DTSTART:20190101T000000
END:STANDARD
END:VTIMEZONE
BEGIN:VEVENT
DTSTART;VALUE=DATE:20190410
DTEND;VALUE=DATE:20190413
DTSTAMP:20260420T193703
CREATED:20190422T080420Z
LAST-MODIFIED:20190422T080615Z
UID:5986-1554854400-1555113599@cn.gmt.com.my
SUMMARY:RAIL SOLUTION ASIA 2019
DESCRIPTION:RAIL SOLUTION ASIA2019 \n10TH TO 12THAPRIL  2019 \nKUALA LUMPUR CONVENTION CENTRE
URL:https://cn.gmt.com.my/event/rail-solution-asia-2019/
LOCATION:KUALA LUMPUR CONVENTION CENTRE\, Kuala Lumpur\, Malaysia
CATEGORIES:GMT
END:VEVENT
END:VCALENDAR